BEGIN:VCALENDAR
VERSION:2.0
PRODID:-//InvisionCommunity Events 4.7.13//EN
METHOD:PUBLISH
CALSCALE:GREGORIAN
REFRESH-INTERVAL:PT15M
X-PUBLISHED-TTL:PT15M
X-WR-CALNAME:All Calendars - Hell Bound Soldiers [HBS]
NAME:All Calendars - Hell Bound Soldiers [HBS]
BEGIN:VTIMEZONE
TZID:Europe/London
TZURL:http://tzurl.org/zoneinfo/Europe/London
X-LIC-LOCATION:Europe/London
BEGIN:DAYLIGHT
TZOFFSETFROM:+0000
TZOFFSETTO:+0100
TZNAME:BST
DTSTART:20240331T020000Z
RRULE:FREQ=YEARLY;BYMONTH=3;BYDAY=-1SU
END:DAYLIGHT
BEGIN:STANDARD
TZOFFSETFROM:+0100
TZOFFSETTO:+0000
TZNAME:GMT
DTSTART:20241027T020000Z
RRULE:FREQ=YEARLY;BYMONTH=10;BYDAY=-1SU
END:STANDARD
END:VTIMEZONE
BEGIN:VTIMEZONE
TZID:Europe/London
TZURL:http://tzurl.org/zoneinfo/Europe/London
X-LIC-LOCATION:Europe/London
BEGIN:DAYLIGHT
TZOFFSETFROM:+0000
TZOFFSETTO:+0100
TZNAME:BST
DTSTART:20250330T020000Z
RRULE:FREQ=YEARLY;BYMONTH=3;BYDAY=-1SU
END:DAYLIGHT
BEGIN:STANDARD
TZOFFSETFROM:+0100
TZOFFSETTO:+0000
TZNAME:GMT
DTSTART:20251026T020000Z
RRULE:FREQ=YEARLY;BYMONTH=10;BYDAY=-1SU
END:STANDARD
END:VTIMEZONE
BEGIN:VTIMEZONE
TZID:Europe/London
TZURL:http://tzurl.org/zoneinfo/Europe/London
X-LIC-LOCATION:Europe/London
BEGIN:DAYLIGHT
TZOFFSETFROM:+0000
TZOFFSETTO:+0100
TZNAME:BST
DTSTART:20230326T020000Z
RRULE:FREQ=YEARLY;BYMONTH=3;BYDAY=-1SU
END:DAYLIGHT
BEGIN:STANDARD
TZOFFSETFROM:+0100
TZOFFSETTO:+0000
TZNAME:GMT
DTSTART:20231029T020000Z
RRULE:FREQ=YEARLY;BYMONTH=10;BYDAY=-1SU
END:STANDARD
END:VTIMEZONE
BEGIN:VEVENT
SUMMARY:Red Deer 2025
DTSTAMP:20241129T122323Z
SEQUENCE:0
UID:19-10-3c4ce1ecc6b2bd27875fa2f2deb67dfe@clanhbs.com
ORGANIZER;CN="KgB":clanhbs@clanhbs.com
DESCRIPTION:\n	\n\n\n\n	Red Deer\n\n\n\n	\"Red deer are among the larges
	t species of deer living in Europe\, Western Asia\, and Northern Africa. T
	he species has also been introduced to other parts of the world. Closely r
	elated to the American elk \, red deer are characterized by their reddish-
	brown fur. A typical buck also called a stag\, may weigh in between 160.00
	 - 240.00 kg (350 - 530 lb) and develop large antlers over its lifetime. S
	tags are easily distinguished from their female counterparts\, hinds\, by 
	their thicker necks. Red deer live in larger groups and tend to inhabit br
	oad leaf deciduous forests with flat terrains and open meadows. However th
	ey can be found in steeper areas and higher altitudes as well. They are he
	rbivores and pose little threat to humans unless startled at close range.\
	"\n\n\n\n	\n		\n			\n				Silver\n			\n			\n				 Gold\n			\n			\n				 Diamo
	nd\n			\n		\n		\n			\n				90.50\n			\n			\n				182.25\n			\n			\n				251.0
	7\n			\n		\n	\n\n\n\n	 \n\n\n\n	 \n\n\n\n	Competition Name: Heart of the
	 Beast\n\n\n\n	Competition Prey: RED DEER\n\n\n\n	Competition Entry: Harve
	st the highest scoring Red Deer with a single shot through the heart from 
	any riffle to win.\n\n\n\n	 \n\n\n\n	Rules and Conditions\n\n\n\n	Species
	: RED DEER\n\n	Reserves: Hirschfelden\, Parque Fernando\, Cuatro Colinas\,
	 Te Awaroa\, Emerald Coast\n\n\n\n	Description\n\n\n\n	Harvest the highest
	 scoring Red Deer with a single shot through the heart to win\n\n\n\n	Weap
	ons\n\n\n\n	Any permitted\n\n\n\n	Scoring\n\n\n\n	Highest score\n\n\n\n	Sp
	ecial Requirements\n\n\n\n	Single shot through the heart\n\n\n\n	Gamemode\
	n\n\n\n	Singleplayer / Multiplayer\n\n\n\n	 \n\n\n\n	Competition Requirem
	ents: You will need to provide a screenshot of the harvest screen and a sc
	reenshot of the Codex Entry of your heaviest.\n\n
DTSTART:20241206T060000Z
DTEND:20241209T060000Z
RRULE:FREQ=YEARLY;INTERVAL=1
END:VEVENT
BEGIN:VEVENT
SUMMARY:Holiday Exodus
DTSTAMP:20241120T151628Z
SEQUENCE:0
UID:13-1-3c4ce1ecc6b2bd27875fa2f2deb67dfe@clanhbs.com
ORGANIZER;CN="KgB":clanhbs@clanhbs.com
DESCRIPTION:\n	\n		\n			\n				\n					\n						\n							\n						\n\n						
	\n							Enjoy some time away from the unit if you so wish!  We encourage
	 everyone to take these days to spend with loved ones and enjoy yourselves
	!  \n						\n\n						\n							During this time we all will still be arou
	nd and gaming but also during this time there will be no official mandator
	y unit events\, no TPRs are needed\, no LOAs are needed!  This time is fo
	r you to do what you please with!  \n						\n\n						\n							Happy Holi
	days soldiers! \n						\n\n						\n							 \n						\n\n						\n							\n
							\n					\n				\n			\n		\n	\n\n\n\n	 \n\n
DTSTART;VALUE=DATE:20241218
DTEND;VALUE=DATE:20250106
END:VEVENT
BEGIN:VEVENT
SUMMARY:HBS All Staff Meeting
DTSTAMP:20240906T010908Z
SEQUENCE:0
UID:12-3-3c4ce1ecc6b2bd27875fa2f2deb67dfe@clanhbs.com
ORGANIZER;CN="Phoechii":clanhbs@clanhbs.com
DESCRIPTION:\n	Calling ALL HBS Staff to attend for appx. 1 HOUR in DISCO
	RD.\n\n	RSVP not required but appreciated for record keeping.\n\n
DTSTART:20240909T010000Z
ATTENDEE;CN="Phoechii";CUTYPE=INDIVIDUAL;PARTSTAT=ACCEPTED:c
	lanhbs@clanhbs.com
ATTENDEE;CN="KgB";CUTYPE=INDIVIDUAL;PARTSTAT=ACCEPTED:clanhb
	s@clanhbs.com
END:VEVENT
BEGIN:VEVENT
SUMMARY:Holiday Exodus
DTSTAMP:20231121T040920Z
SEQUENCE:0
UID:6-1-3c4ce1ecc6b2bd27875fa2f2deb67dfe@clanhbs.com
ORGANIZER;CN="KgB":clanhbs@clanhbs.com
DESCRIPTION:\n	\n		\n			\n				\n					\n						\n							\n						\n\n						
	\n							Enjoy some time away from the unit if you so wish!  We encourage
	 everyone to take these days to spend with loved ones and enjoy yourselves
	!  \n						\n\n						\n							During this time we all will still be arou
	nd and gaming but also during this time there will be no official mandator
	y unit events\, no TPRs are needed\, no LOAs are needed!  This time is fo
	r you to do what you please with!  \n						\n\n						\n							Happy Holi
	days soldiers! \n						\n\n						\n							 \n						\n\n						\n							\n
							\n					\n				\n			\n		\n	\n\n\n\n	 \n\n
DTSTART;VALUE=DATE:20231218
DTEND;VALUE=DATE:20240106
END:VEVENT
BEGIN:VEVENT
SUMMARY:Pub-a-thon - Halloween
DTSTAMP:20231026T174911Z
SEQUENCE:0
UID:4-1-3c4ce1ecc6b2bd27875fa2f2deb67dfe@clanhbs.com
ORGANIZER;CN="KgB":clanhbs@clanhbs.com
DESCRIPTION:\n	Join in on our 5 days of pub-a-thon fun from 1300EST Octo
	ber 27\, 2023 to 0100EST October 31\, 2023 This is a 5 day Socializing / G
	aming event (Join anytime) - The event will be held in our Public Discord.
	\n\n\n\n	Soldiers (Current/Former) and Civilians are encouraged to join us
	 in public play during the times listed above\, join in on camaraderie wit
	h the gaming community. We will have members on throughout the nights and 
	into the mornings! We are inviting everyone to this event\, come meet new 
	people get to know our members and other members of the community and just
	 have a good time!  \n\n\n\n	During this time all Soldiers are encouraged
	 to recruit public players into our Discord and possibly into our unit.\n\
	n\n\n	 Join our Discord\; http://discord.clanhbs.com\n\n
DTSTART:20231027T170000Z
DTEND:20231031T050000Z
END:VEVENT
END:VCALENDAR
